BEGIN:VCALENDAR
VERSION:2.0
PRODID:-//Independent Education Union of Australia WA Branch - ECPv5.4.0//NONSGML v1.0//EN
CALSCALE:GREGORIAN
METHOD:PUBLISH
X-WR-CALNAME:Independent Education Union of Australia WA Branch
X-ORIGINAL-URL:https://ieuwa.org.au
X-WR-CALDESC:Events for Independent Education Union of Australia WA Branch
BEGIN:VTIMEZONE
TZID:Australia/Perth
BEGIN:STANDARD
TZOFFSETFROM:+0800
TZOFFSETTO:+0800
TZNAME:AWST
DTSTART:20210101T000000
END:STANDARD
END:VTIMEZONE
BEGIN:VEVENT
DTSTART;TZID=Australia/Perth:20210325T163000
DTEND;TZID=Australia/Perth:20210325T180000
DTSTAMP:20210301T115956
CREATED:20210218T030624Z
LAST-MODIFIED:20210218T031659Z
UID:6593-1616689800-1616695200@ieuwa.org.au
SUMMARY:TRBWA: transitioning from provisional to full registration [attend via Zoom]
DESCRIPTION:*** IMPORTANT INFORMATION ****In addition to being offered in-house at the IEU this session will be delivered via Zoom. Please download the app on the device you will be using for the session. If you are using a computer\, you will also be able to access the session via a web browser using the link. Please make sure that the device you are using has video and microphone capabilities\, although an audio-only format is also possible. \n\n\n\nNB If there are new COVID-19 restrictions in force\, we will be conducting the session via Zoom only. \n\n\n\nWe are also running this session in person which you can attend in person – you can register for that here. \n\n\n\n\n\n\n\nNeed help transitioning from provisional to full registration\, or in renewing your registration? Join us for a one-stop-shop session that covers all Teachers’ Registration Board requirements including the registration process. A hands-on practical session to get you started\, collate information and become updated in preparation for TRBWA registration requirements.  \n\n\n\nHave your device\, portfolio and questions ready! \n\n\n\nThis is open to IEU members only. \n\n\n\nNon-members: Professional Learning is available to members only. If you are not yet a member\, you can sign up in order to receive all the benefits of union membership\, including this and future PL sessions at no additional cost. \n\n\n\nProfessional Standards covered in this PL:Standard 6.1 Identify and plan professional learning needs \n\n\n\nStandard 6.2 Engage in professional learning and improve practice \n\n\n\nStandard 6.3 Engage with colleagues and improve practice \n\n\n\nStandard 7.1 Meet professional ethics and responsibilities  \n\n\n\nStandard 7.2 Comply with legislative\, administrative and organisational requirements
URL:https://ieuwa.org.au/event/transitioning-from-provisional-to-full-registration-attend-via-zoom-2/
CATEGORIES:Early Career Teachers,Professional Learning
ORGANIZER;CN="Matt%20English":MAILTO:menglish@ieuwa.org.au
END:VEVENT
END:VCALENDAR